Workbook

Sheet Painel
B2: Painel Comercial | T2: Mês | W2: Jun | AB2: =MATCH(W2,{"Jan","Fev","Mar","Abr","Mai","Jun"},0) -> 6
B3: 1º semestre de 2026 · selecione o mês no canto direito; todos os indicadores se recalculam
B5: FATURAMENTO DO MÊS | H5: PEDIDOS | N5: TICKET MÉDIO | T5: META ATINGIDA
B6: =SUMIFS(Base!$I$4:$I$313,Base!$B$4:$B$313,$AB$2) -> 145190 | H6: =COUNTIFS(Base!$B$4:$B$313,$AB$2) -> 61 | N6: =IFERROR(SUMIFS(Base!$I$4:$I$313,Base!$B$4:$B$313,$AB$2)/COUNTIFS(Base!$B$4:$B$313,$AB$2),0) -> 2380.1639 | T6: =IFERROR(SUMIFS(Base!$I$4:$I$313,Base!$B$4:$B$313,$AB$2)/INDEX(Cálculos!$C$4:$C$9,$AB$2),0) -> 0.98768707
B8: =IF($AB$2=1,"",SUMIFS(Base!$I$4:$I$313,Base!$B$4:$B$313,$AB$2)/SUMIFS(Base!$I$4:$I$313,Base!$B$4:$B$313,$AB$2-1)-1) -> 0.029789347 | D8: vs. mês anterior | H8: =IF($AB$2=1,"",COUNTIFS(Base!$B$4:$B$313,$AB$2)/COUNTIFS(Base!$B$4:$B$313,$AB$2-1)-1) -> 0.016666667 | J8: vs. mês anterior | N8: =IF($AB$2=1,"",IFERROR((SUMIFS(Base!$I$4:$I$313,Base!$B$4:$B$313,$AB$2)/COUNTIFS(Base!$B$4:$B$313,$AB$2))/(SUMIFS(Base!$I$4:$I$313,Base!$B$4:$B$313,$AB$2-1)/COUNTIFS(Base!$B$4:$B$313,$AB$2-1))-1,"")) -> 0.012907554 | P8: vs. mês anterior | T8: Meta do mês: | W8: =INDEX(Cálculos!$C$4:$C$9,$AB$2) -> 147000
B10: Faturamento mensal x meta | P10: Faturamento por vendedor
B11: Barras = realizado · linha = meta da equipe | P11: Mapa de calor do semestre (R$ mil)
P12: Vendedor | S12: Jan | T12: Fev | U12: Mar | V12: Abr | W12: Mai | X12: Jun
P13: Ana Souza | S13: =SUMIFS(Base!$I$4:$I$313,Base!$C$4:$C$313,$P13,Base!$B$4:$B$313,1)/1000 -> 25.79 | T13: =SUMIFS(Base!$I$4:$I$313,Base!$C$4:$C$313,$P13,Base!$B$4:$B$313,2)/1000 -> 25.78 | U13: =SUMIFS(Base!$I$4:$I$313,Base!$C$4:$C$313,$P13,Base!$B$4:$B$313,3)/1000 -> 19.72 | V13: =SUMIFS(Base!$I$4:$I$313,Base!$C$4:$C$313,$P13,Base!$B$4:$B$313,4)/1000 -> 35.95 | W13: =SUMIFS(Base!$I$4:$I$313,Base!$C$4:$C$313,$P13,Base!$B$4:$B$313,5)/1000 -> 44.22 | X13: =SUMIFS(Base!$I$4:$I$313,Base!$C$4:$C$313,$P13,Base!$B$4:$B$313,6)/1000 -> 44.61
P14: Bruno Lima | S14: =SUMIFS(Base!$I$4:$I$313,Base!$C$4:$C$313,$P14,Base!$B$4:$B$313,1)/1000 -> 36.03 | T14: =SUMIFS(Base!$I$4:$I$313,Base!$C$4:$C$313,$P14,Base!$B$4:$B$313,2)/1000 -> 17.52 | U14: =SUMIFS(Base!$I$4:$I$313,Base!$C$4:$C$313,$P14,Base!$B$4:$B$313,3)/1000 -> 4.84 | V14: =SUMIFS(Base!$I$4:$I$313,Base!$C$4:$C$313,$P14,Base!$B$4:$B$313,4)/1000 -> 14.13 | W14: =SUMIFS(Base!$I$4:$I$313,Base!$C$4:$C$313,$P14,Base!$B$4:$B$313,5)/1000 -> 8.81 | X14: =SUMIFS(Base!$I$4:$I$313,Base!$C$4:$C$313,$P14,Base!$B$4:$B$313,6)/1000 -> 28.5
P15: Carla Dias | S15: =SUMIFS(Base!$I$4:$I$313,Base!$C$4:$C$313,$P15,Base!$B$4:$B$313,1)/1000 -> 6.03 | T15: =SUMIFS(Base!$I$4:$I$313,Base!$C$4:$C$313,$P15,Base!$B$4:$B$313,2)/1000 -> 10.37 | U15: =SUMIFS(Base!$I$4:$I$313,Base!$C$4:$C$313,$P15,Base!$B$4:$B$313,3)/1000 -> 29.6 | V15: =SUMIFS(Base!$I$4:$I$313,Base!$C$4:$C$313,$P15,Base!$B$4:$B$313,4)/1000 -> 8.31 | W15: =SUMIFS(Base!$I$4:$I$313,Base!$C$4:$C$313,$P15,Base!$B$4:$B$313,5)/1000 -> 20.27 | X15: =SUMIFS(Base!$I$4:$I$313,Base!$C$4:$C$313,$P15,Base!$B$4:$B$313,6)/1000 -> 31.54
P16: Diego Rocha | S16: =SUMIFS(Base!$I$4:$I$313,Base!$C$4:$C$313,$P16,Base!$B$4:$B$313,1)/1000 -> 26.28 | T16: =SUMIFS(Base!$I$4:$I$313,Base!$C$4:$C$313,$P16,Base!$B$4:$B$313,2)/1000 -> 23.96 | U16: =SUMIFS(Base!$I$4:$I$313,Base!$C$4:$C$313,$P16,Base!$B$4:$B$313,3)/1000 -> 11.8 | V16: =SUMIFS(Base!$I$4:$I$313,Base!$C$4:$C$313,$P16,Base!$B$4:$B$313,4)/1000 -> 40.78 | W16: =SUMIFS(Base!$I$4:$I$313,Base!$C$4:$C$313,$P16,Base!$B$4:$B$313,5)/1000 -> 41.31 | X16: =SUMIFS(Base!$I$4:$I$313,Base!$C$4:$C$313,$P16,Base!$B$4:$B$313,6)/1000 -> 12.43
P17: Elisa Prado | S17: =SUMIFS(Base!$I$4:$I$313,Base!$C$4:$C$313,$P17,Base!$B$4:$B$313,1)/1000 -> 14.63 | T17: =SUMIFS(Base!$I$4:$I$313,Base!$C$4:$C$313,$P17,Base!$B$4:$B$313,2)/1000 -> 28.7 | U17: =SUMIFS(Base!$I$4:$I$313,Base!$C$4:$C$313,$P17,Base!$B$4:$B$313,3)/1000 -> 3.75 | V17: =SUMIFS(Base!$I$4:$I$313,Base!$C$4:$C$313,$P17,Base!$B$4:$B$313,4)/1000 -> 10.42 | W17: =SUMIFS(Base!$I$4:$I$313,Base!$C$4:$C$313,$P17,Base!$B$4:$B$313,5)/1000 -> 26.38 | X17: =SUMIFS(Base!$I$4:$I$313,Base!$C$4:$C$313,$P17,Base!$B$4:$B$313,6)/1000 -> 28.11
P18: Total | S18: =SUM(S13:S17) -> 108.76 | T18: =SUM(T13:T17) -> 106.33 | U18: =SUM(U13:U17) -> 69.71 | V18: =SUM(V13:V17) -> 109.59 | W18: =SUM(W13:W17) -> 140.99 | X18: =SUM(X13:X17) -> 145.19
P20: Faturamento por região no mês
B29: Curva de Pareto por produto | P29: Ranking do mês
B30: Faturamento do semestre por produto e % acumulado da receita | P30: Vendedores ordenados por faturamento · barra = % da meta individual
P31: # | Q31: Vendedor | T31: Faturamento | V31: % meta | W31: Progresso
P32: 1 | Q32: =INDEX(Cálculos!$A$13:$A$17,MATCH(LARGE(Cálculos!$B$13:$B$17,1),Cálculos!$B$13:$B$17,0)) -> Ana Souza | T32: =LARGE(Cálculos!$B$13:$B$17,1) -> 44610 | V32: =IFERROR(T32/INDEX(Cálculos!$C$13:$C$17,MATCH(LARGE(Cálculos!$B$13:$B$17,1),Cálculos!$B$13:$B$17,0)),0) -> 1.2391667 | W32: =REPT("█",MIN(8,ROUND(V32*6,0))) -> ███████
P33: 2 | Q33: =INDEX(Cálculos!$A$13:$A$17,MATCH(LARGE(Cálculos!$B$13:$B$17,2),Cálculos!$B$13:$B$17,0)) -> Carla Dias | T33: =LARGE(Cálculos!$B$13:$B$17,2) -> 31540 | V33: =IFERROR(T33/INDEX(Cálculos!$C$13:$C$17,MATCH(LARGE(Cálculos!$B$13:$B$17,2),Cálculos!$B$13:$B$17,0)),0) -> 1.3713043 | W33: =REPT("█",MIN(8,ROUND(V33*6,0))) -> ████████
P34: 3 | Q34: =INDEX(Cálculos!$A$13:$A$17,MATCH(LARGE(Cálculos!$B$13:$B$17,3),Cálculos!$B$13:$B$17,0)) -> Bruno Lima | T34: =LARGE(Cálculos!$B$13:$B$17,3) -> 28500 | V34: =IFERROR(T34/INDEX(Cálculos!$C$13:$C$17,MATCH(LARGE(Cálculos!$B$13:$B$17,3),Cálculos!$B$13:$B$17,0)),0) -> 0.86363636 | W34: =REPT("█",MIN(8,ROUND(V34*6,0))) -> █████
P35: 4 | Q35: =INDEX(Cálculos!$A$13:$A$17,MATCH(LARGE(Cálculos!$B$13:$B$17,4),Cálculos!$B$13:$B$17,0)) -> Elisa Prado | T35: =LARGE(Cálculos!$B$13:$B$17,4) -> 28110 | V35: =IFERROR(T35/INDEX(Cálculos!$C$13:$C$17,MATCH(LARGE(Cálculos!$B$13:$B$17,4),Cálculos!$B$13:$B$17,0)),0) -> 0.96931035 | W35: =REPT("█",MIN(8,ROUND(V35*6,0))) -> ██████
P36: 5 | Q36: =INDEX(Cálculos!$A$13:$A$17,MATCH(LARGE(Cálculos!$B$13:$B$17,5),Cálculos!$B$13:$B$17,0)) -> Diego Rocha | T36: =LARGE(Cálculos!$B$13:$B$17,5) -> 12430 | V36: =IFERROR(T36/INDEX(Cálculos!$C$13:$C$17,MATCH(LARGE(Cálculos!$B$13:$B$17,5),Cálculos!$B$13:$B$17,0)),0) -> 0.47807692 | W36: =REPT("█",MIN(8,ROUND(V36*6,0))) -> ███
P38: Abaixo de 90% da meta aparece em vermelho. Metas individuais na aba Metas.
P40: VENDEDORES NA META | U40: PRODUTO LÍDER DO MÊS
P41: =COUNTIF(V32:V36,">=1")&" de 5" -> 2 de 5 | U41: =INDEX(Cálculos!$A$23:$A$30,MATCH(MAX(Cálculos!$B$23:$B$30),Cálculos!$B$23:$B$30,0)) -> Notebook

Sheet Base
A1: Base de vendas
A3: Data | B3: Mês | C3: Vendedor | D3: Região | E3: Produto | F3: Categoria | G3: Qtd | H3: Preço unit. | I3: Total
A4: 46023 | B4: =MONTH(A4) -> 1 | C4: Bruno Lima | D4: Sudeste | E4: Notebook | F4: Informática | G4: 4 | H4: 4890 | I4: =G4*H4 -> 19560
A5: 46023 | B5: =MONTH(A5) -> 1 | C5: Ana Souza | D5: Sul | E5: Teclado | F5: Acessórios | G5: 1 | H5: 380 | I5: =G5*H5 -> 380
A6: 46023 | B6: =MONTH(A6) -> 1 | C6: Ana Souza | D6: Sul | E6: Dock USB-C | F6: Acessórios | G6: 3 | H6: 690 | I6: =G6*H6 -> 2070
A7: 46023 | B7: =MONTH(A7) -> 1 | C7: Ana Souza | D7: Sul | E7: Headset | F7: Acessórios | G7: 2 | H7: 420 | I7: =G7*H7 -> 840
A8: 46023 | B8: =MONTH(A8) -> 1 | C8: Elisa Prado | D8: Sul | E8: Cadeira | F8: Mobiliário | G8: 1 | H8: 1290 | I8: =G8*H8 -> 1290
A9: 46024 | B9: =MONTH(A9) -> 1 | C9: Elisa Prado | D9: Sul | E9: Notebook | F9: Informática | G9: 1 | H9: 4890 | I9: =G9*H9 -> 4890
A10: 46024 | B10: =MONTH(A10) -> 1 | C10: Ana Souza | D10: Sul | E10: Cadeira | F10: Mobiliário | G10: 2 | H10: 1290 | I10: =G10*H10 -> 2580
A11: 46024 | B11: =MONTH(A11) -> 1 | C11: Bruno Lima | D11: Sudeste | E11: Cadeira | F11: Mobiliário | G11: 1 | H11: 1290 | I11: =G11*H11 -> 1290
A12: 46025 | B12: =MONTH(A12) -> 1 | C12: Elisa Prado | D12: Sul | E12: Dock USB-C | F12: Acessórios | G12: 2 | H12: 690 | I12: =G12*H12 -> 1380
A13: 46025 | B13: =MONTH(A13) -> 1 | C13: Bruno Lima | D13: Sudeste | E13: Cadeira | F13: Mobiliário | G13: 1 | H13: 1290 | I13: =G13*H13 -> 1290
A14: 46025 | B14: =MONTH(A14) -> 1 | C14: Diego Rocha | D14: Centro-Oeste | E14: Headset | F14: Acessórios | G14: 1 | H14: 420 | I14: =G14*H14 -> 420
A15: 46026 | B15: =MONTH(A15) -> 1 | C15: Elisa Prado | D15: Sul | E15: Headset | F15: Acessórios | G15: 1 | H15: 420 | I15: =G15*H15 -> 420
... A313: 46201 | B313: =MONTH(A313) -> 6 | C313: Bruno Lima | D313: Sudeste | E313: Webcam | F313: Acessórios | G313: 2 | H313: 310 | I313: =G313*H313 -> 620

Sheet Metas
A1: Metas mensais por vendedor (edite os valores em azul)
A3: Vendedor | B3: Jan | C3: Fev | D3: Mar | E3: Abr | F3: Mai | G3: Jun | H3: Semestre
A4: Ana Souza | B4: 27000 | C4: 29000 | D4: 31000 | E4: 33000 | F4: 34000 | G4: 36000 | H4: =SUM(B4:G4) -> 190000
A5: Bruno Lima | B5: 25000 | C5: 27000 | D5: 28000 | E5: 30000 | F5: 32000 | G5: 33000 | H5: =SUM(B5:G5) -> 175000
A6: Carla Dias | B6: 18000 | C6: 19000 | D6: 20000 | E6: 21000 | F6: 22000 | G6: 23000 | H6: =SUM(B6:G6) -> 123000
A7: Diego Rocha | B7: 20000 | C7: 21000 | D7: 22000 | E7: 23000 | F7: 25000 | G7: 26000 | H7: =SUM(B7:G7) -> 137000
A8: Elisa Prado | B8: 22000 | C8: 23000 | D8: 25000 | E8: 26000 | F8: 27000 | G8: 29000 | H8: =SUM(B8:G8) -> 152000
A9: Total | B9: =SUM(B4:B8) -> 112000 | C9: =SUM(C4:C8) -> 119000 | D9: =SUM(D4:D8) -> 126000 | E9: =SUM(E4:E8) -> 133000 | F9: =SUM(F4:F8) -> 140000 | G9: =SUM(G4:G8) -> 147000 | H9: =SUM(H4:H8) -> 777000

Sheet Cálculos
A1: Tabelas de apoio dos gráficos (não editar)
A3: Mês | B3: Faturamento | C3: Meta | D3: Pedidos | F3: Produto | G3: Faturamento | H3: Rank | J3: Produto (ordenado) | K3: Faturamento | L3: % acumulado | N3: Região | O3: Faturamento no mês
A4: Jan | B4: =SUMIFS(Base!$I$4:$I$313,Base!$B$4:$B$313,1) -> 108760 | C4: =Metas!B9 -> 112000 | D4: =COUNTIFS(Base!$B$4:$B$313,1) -> 42 | F4: Notebook | G4: =SUMIFS(Base!$I$4:$I$313,Base!$E$4:$E$313,F4)+ROW()/1000000 -> 195600 | J4: =INDEX($F$4:$F$11,MATCH(K4,$G$4:$G$11,0)) -> Notebook | K4: =LARGE($G$4:$G$11,1) -> 195600 | L4: =SUM($K$4:K4)/SUM($K$4:$K$11) -> 0.28740614 | N4: Sul | O4: =SUMIFS(Base!$I$4:$I$313,Base!$D$4:$D$313,N4,Base!$B$4:$B$313,Painel!$AB$2) -> 72720
A5: Fev | B5: =SUMIFS(Base!$I$4:$I$313,Base!$B$4:$B$313,2) -> 106330 | C5: =Metas!C9 -> 119000 | D5: =COUNTIFS(Base!$B$4:$B$313,2) -> 48 | F5: Monitor 4K | G5: =SUMIFS(Base!$I$4:$I$313,Base!$E$4:$E$313,F5)+ROW()/1000000 -> 151110 | J5: =INDEX($F$4:$F$11,MATCH(K5,$G$4:$G$11,0)) -> Monitor 4K | K5: =LARGE($G$4:$G$11,2) -> 151110 | L5: =SUM($K$4:K5)/SUM($K$4:$K$11) -> 0.50944062 | N5: Sudeste | O5: =SUMIFS(Base!$I$4:$I$313,Base!$D$4:$D$313,N5,Base!$B$4:$B$313,Painel!$AB$2) -> 60040
A6: Mar | B6: =SUMIFS(Base!$I$4:$I$313,Base!$B$4:$B$313,3) -> 69710 | C6: =Metas!D9 -> 126000 | D6: =COUNTIFS(Base!$B$4:$B$313,3) -> 48 | F6: Cadeira | G6: =SUMIFS(Base!$I$4:$I$313,Base!$E$4:$E$313,F6)+ROW()/1000000 -> 74820 | J6: =INDEX($F$4:$F$11,MATCH(K6,$G$4:$G$11,0)) -> Cadeira | K6: =LARGE($G$4:$G$11,3) -> 74820 | L6: =SUM($K$4:K6)/SUM($K$4:$K$11) -> 0.61937787 | N6: Centro-Oeste | O6: =SUMIFS(Base!$I$4:$I$313,Base!$D$4:$D$313,N6,Base!$B$4:$B$313,Painel!$AB$2) -> 12430
A7: Abr | B7: =SUMIFS(Base!$I$4:$I$313,Base!$B$4:$B$313,4) -> 109590 | C7: =Metas!E9 -> 133000 | D7: =COUNTIFS(Base!$B$4:$B$313,4) -> 51 | F7: Mesa | G7: =SUMIFS(Base!$I$4:$I$313,Base!$E$4:$E$313,F7)+ROW()/1000000 -> 73500 | J7: =INDEX($F$4:$F$11,MATCH(K7,$G$4:$G$11,0)) -> Mesa | K7: =LARGE($G$4:$G$11,4) -> 73500 | L7: =SUM($K$4:K7)/SUM($K$4:$K$11) -> 0.72737558
A8: Mai | B8: =SUMIFS(Base!$I$4:$I$313,Base!$B$4:$B$313,5) -> 140990 | C8: =Metas!F9 -> 140000 | D8: =COUNTIFS(Base!$B$4:$B$313,5) -> 60 | F8: Dock USB-C | G8: =SUMIFS(Base!$I$4:$I$313,Base!$E$4:$E$313,F8)+ROW()/1000000 -> 57270 | J8: =INDEX($F$4:$F$11,MATCH(K8,$G$4:$G$11,0)) -> Dock USB-C | K8: =LARGE($G$4:$G$11,5) -> 57270 | L8: =SUM($K$4:K8)/SUM($K$4:$K$11) -> 0.81152563
A9: Jun | B9: =SUMIFS(Base!$I$4:$I$313,Base!$B$4:$B$313,6) -> 145190 | C9: =Metas!G9 -> 147000 | D9: =COUNTIFS(Base!$B$4:$B$313,6) -> 61 | F9: Headset | G9: =SUMIFS(Base!$I$4:$I$313,Base!$E$4:$E$313,F9)+ROW()/1000000 -> 51660 | J9: =INDEX($F$4:$F$11,MATCH(K9,$G$4:$G$11,0)) -> Headset | K9: =LARGE($G$4:$G$11,6) -> 51660 | L9: =SUM($K$4:K9)/SUM($K$4:$K$11) -> 0.88743259
F10: Teclado | G10: =SUMIFS(Base!$I$4:$I$313,Base!$E$4:$E$313,F10)+ROW()/1000000 -> 49020 | J10: =INDEX($F$4:$F$11,MATCH(K10,$G$4:$G$11,0)) -> Teclado | K10: =LARGE($G$4:$G$11,7) -> 49020 | L10: =SUM($K$4:K10)/SUM($K$4:$K$11) -> 0.95946045
F11: Webcam | G11: =SUMIFS(Base!$I$4:$I$313,Base!$E$4:$E$313,F11)+ROW()/1000000 -> 27590 | J11: =INDEX($F$4:$F$11,MATCH(K11,$G$4:$G$11,0)) -> Webcam | K11: =LARGE($G$4:$G$11,8) -> 27590 | L11: =SUM($K$4:K11)/SUM($K$4:$K$11) -> 1
A12: Vendedor | B12: Fat. mês | C12: Meta mês
A13: Ana Souza | B13: =SUMIFS(Base!$I$4:$I$313,Base!$C$4:$C$313,A13,Base!$B$4:$B$313,Painel!$AB$2)+ROW()/1000000 -> 44610 | C13: =INDEX(Metas!$B$4:$G$4,Painel!$AB$2) -> 36000
A14: Bruno Lima | B14: =SUMIFS(Base!$I$4:$I$313,Base!$C$4:$C$313,A14,Base!$B$4:$B$313,Painel!$AB$2)+ROW()/1000000 -> 28500 | C14: =INDEX(Metas!$B$5:$G$5,Painel!$AB$2) -> 33000
A15: Carla Dias | B15: =SUMIFS(Base!$I$4:$I$313,Base!$C$4:$C$313,A15,Base!$B$4:$B$313,Painel!$AB$2)+ROW()/1000000 -> 31540 | C15: =INDEX(Metas!$B$6:$G$6,Painel!$AB$2) -> 23000
A16: Diego Rocha | B16: =SUMIFS(Base!$I$4:$I$313,Base!$C$4:$C$313,A16,Base!$B$4:$B$313,Painel!$AB$2)+ROW()/1000000 -> 12430 | C16: =INDEX(Metas!$B$7:$G$7,Painel!$AB$2) -> 26000
A17: Elisa Prado | B17: =SUMIFS(Base!$I$4:$I$313,Base!$C$4:$C$313,A17,Base!$B$4:$B$313,Painel!$AB$2)+ROW()/1000000 -> 28110 | C17: =INDEX(Metas!$B$8:$G$8,Painel!$AB$2) -> 29000
A22: Produto | B22: Fat. mês
A23: Notebook | B23: =SUMIFS(Base!$I$4:$I$313,Base!$E$4:$E$313,A23,Base!$B$4:$B$313,Painel!$AB$2)+ROW()/1000000 -> 39120
A24: Monitor 4K | B24: =SUMIFS(Base!$I$4:$I$313,Base!$E$4:$E$313,A24,Base!$B$4:$B$313,Painel!$AB$2)+ROW()/1000000 -> 24090
A25: Cadeira | B25: =SUMIFS(Base!$I$4:$I$313,Base!$E$4:$E$313,A25,Base!$B$4:$B$313,Painel!$AB$2)+ROW()/1000000 -> 11610
A26: Mesa | B26: =SUMIFS(Base!$I$4:$I$313,Base!$E$4:$E$313,A26,Base!$B$4:$B$313,Painel!$AB$2)+ROW()/1000000 -> 29400
A27: Dock USB-C | B27: =SUMIFS(Base!$I$4:$I$313,Base!$E$4:$E$313,A27,Base!$B$4:$B$313,Painel!$AB$2)+ROW()/1000000 -> 8970
A28: Headset | B28: =SUMIFS(Base!$I$4:$I$313,Base!$E$4:$E$313,A28,Base!$B$4:$B$313,Painel!$AB$2)+ROW()/1000000 -> 15120
A29: Teclado | B29: =SUMIFS(Base!$I$4:$I$313,Base!$E$4:$E$313,A29,Base!$B$4:$B$313,Painel!$AB$2)+ROW()/1000000 -> 12540
A30: Webcam | B30: =SUMIFS(Base!$I$4:$I$313,Base!$E$4:$E$313,A30,Base!$B$4:$B$313,Painel!$AB$2)+ROW()/1000000 -> 4340
